BEGIN:VCALENDAR
VERSION:2.0
PRODID:-//Sole Parent Family Network - ECPv6.15.20//NONSGML v1.0//EN
CALSCALE:GREGORIAN
METHOD:PUBLISH
X-ORIGINAL-URL:https://spfn.org.au
X-WR-CALDESC:Events for Sole Parent Family Network
REFRESH-INTERVAL;VALUE=DURATION:PT1H
X-Robots-Tag:noindex
X-PUBLISHED-TTL:PT1H
BEGIN:VTIMEZONE
TZID:Australia/Sydney
BEGIN:STANDARD
TZOFFSETFROM:+1100
TZOFFSETTO:+1000
TZNAME:AEST
DTSTART:20220402T160000
END:STANDARD
BEGIN:DAYLIGHT
TZOFFSETFROM:+1000
TZOFFSETTO:+1100
TZNAME:AEDT
DTSTART:20221001T160000
END:DAYLIGHT
BEGIN:STANDARD
TZOFFSETFROM:+1100
TZOFFSETTO:+1000
TZNAME:AEST
DTSTART:20230401T160000
END:STANDARD
BEGIN:DAYLIGHT
TZOFFSETFROM:+1000
TZOFFSETTO:+1100
TZNAME:AEDT
DTSTART:20230930T160000
END:DAYLIGHT
BEGIN:STANDARD
TZOFFSETFROM:+1100
TZOFFSETTO:+1000
TZNAME:AEST
DTSTART:20240406T160000
END:STANDARD
BEGIN:DAYLIGHT
TZOFFSETFROM:+1000
TZOFFSETTO:+1100
TZNAME:AEDT
DTSTART:20241005T160000
END:DAYLIGHT
END:VTIMEZONE
BEGIN:VEVENT
DTSTART;TZID=Australia/Sydney:20230610T180000
DTEND;TZID=Australia/Sydney:20230610T200000
DTSTAMP:20260424T053053
CREATED:20230423T091326Z
LAST-MODIFIED:20230423T091500Z
UID:510-1686420000-1686427200@spfn.org.au
SUMMARY:Vivid Sydney The Rocks & Sydney Opera House
DESCRIPTION:Hello Sole Parents\, \nGet ready to put on your winter woolies and head down to Sydney for a spectacular light show.\nInvigorating the city of Sydney with awe-inspiring art installations and 3D light projections\, Vivid Light transforms our urban environment into a wonderland.\nIn 2023\, Vivid Sydney’s free Light Walk is a massive 8.5km adventure covering Circular Quay\, The Rocks\, Barangaroo\, Darling Harbour\, Darling Square\, Darling Quarter\, The Goods Line and Central Station.\nAt the 2022 Australian Event Awards and Symposium Vivid Sydney 2022 won in the Achievement (National) category for Best Public Event 2022.\nCome and enjoy this Sole Parent event! \n \nLook forward too seeing you all please call 0491 059 094 for any further information. (Free Event) \nPlease note this is an event from 6pm to 8pm due to being an evening event and please dress warm as it will be a little chilly. \n* Please note we will be meeting at Circular Quay Train Station outside City Extra 24 Hours Restaurant which is downstairs & outside near the Ferries. You can call the Sole Parents Network Mobile phone on the night if you have any troubles finding us.
URL:https://spfn.org.au/event/vivid-sydney-the-rocks-sydney-opera-house/
END:VEVENT
END:VCALENDAR