BEGIN:VCALENDAR
VERSION:2.0
PRODID:-//Sole Parent Family Network - ECPv6.15.20//NONSGML v1.0//EN
CALSCALE:GREGORIAN
METHOD:PUBLISH
X-WR-CALNAME:Sole Parent Family Network
X-ORIGINAL-URL:https://spfn.org.au
X-WR-CALDESC:Events for Sole Parent Family Network
REFRESH-INTERVAL;VALUE=DURATION:PT1H
X-Robots-Tag:noindex
X-PUBLISHED-TTL:PT1H
BEGIN:VTIMEZONE
TZID:Australia/Sydney
BEGIN:STANDARD
TZOFFSETFROM:+1100
TZOFFSETTO:+1000
TZNAME:AEST
DTSTART:20230401T160000
END:STANDARD
BEGIN:DAYLIGHT
TZOFFSETFROM:+1000
TZOFFSETTO:+1100
TZNAME:AEDT
DTSTART:20230930T160000
END:DAYLIGHT
BEGIN:STANDARD
TZOFFSETFROM:+1100
TZOFFSETTO:+1000
TZNAME:AEST
DTSTART:20240406T160000
END:STANDARD
BEGIN:DAYLIGHT
TZOFFSETFROM:+1000
TZOFFSETTO:+1100
TZNAME:AEDT
DTSTART:20241005T160000
END:DAYLIGHT
BEGIN:STANDARD
TZOFFSETFROM:+1100
TZOFFSETTO:+1000
TZNAME:AEST
DTSTART:20250405T160000
END:STANDARD
BEGIN:DAYLIGHT
TZOFFSETFROM:+1000
TZOFFSETTO:+1100
TZNAME:AEDT
DTSTART:20251004T160000
END:DAYLIGHT
END:VTIMEZONE
BEGIN:VEVENT
DTSTART;TZID=Australia/Sydney:20241231T170000
DTEND;TZID=Australia/Sydney:20241231T210000
DTSTAMP:20260423T012802
CREATED:20240721T115949Z
LAST-MODIFIED:20240721T115949Z
UID:530-1735664400-1735678800@spfn.org.au
SUMMARY:NYE City of Sydney 2024
DESCRIPTION:Each year the City of Sydney provides us with a limited number of tickets to the New Years Eve 9 pm celebration. \nWe will update the calendar with details later and email everyone once we know more. \n🙂 \n 
URL:https://spfn.org.au/event/nye-city-of-sydney-2024/
END:VEVENT
END:VCALENDAR